BEGIN:VCALENDAR
VERSION:2.0
PRODID:-//Elm City Montessori School - ECPv6.3.5//NONSGML v1.0//EN
CALSCALE:GREGORIAN
METHOD:PUBLISH
X-WR-CALNAME:Elm City Montessori School
X-ORIGINAL-URL:https://elmcitymontessori.org
X-WR-CALDESC:Events for Elm City Montessori School
REFRESH-INTERVAL;VALUE=DURATION:PT1H
X-Robots-Tag:noindex
X-PUBLISHED-TTL:PT1H
BEGIN:VTIMEZONE
TZID:UTC
BEGIN:STANDARD
TZOFFSETFROM:+0000
TZOFFSETTO:+0000
TZNAME:UTC
DTSTART:20180101T000000
END:STANDARD
END:VTIMEZONE
BEGIN:VEVENT
DTSTART;TZID=UTC:20180328T124500
DTEND;TZID=UTC:20180328T130000
DTSTAMP:20260422T161405
CREATED:20180311T011013Z
LAST-MODIFIED:20180322T201034Z
UID:1646-1522241100-1522242000@elmcitymontessori.org
SUMMARY:Early Dismissal
DESCRIPTION:Due to parent teacher conferences\, there will be an early dismissal on Wednesday\, March 28th.  Please pick up your child no later than 1pm.
URL:https://elmcitymontessori.org/event/early-dismissal-15/
END:VEVENT
END:VCALENDAR